BEGIN:VCALENDAR
VERSION:2.0
PRODID:-//Plone.org//NONSGML plone.app.event//EN
X-WR-TIMEZONE:Europe/Rome
BEGIN:VEVENT
SUMMARY:Dialogues Between Policymakers and Academia on Global Governance
DTSTART;VALUE=DATE:20210527
DTEND;VALUE=DATE:20210529
DTSTAMP;VALUE=DATE-TIME:20260419T185649Z
UID:e401d12ab7a24c938488d6e80788ea33@dsps.unibo.it
CREATED;VALUE=DATE-TIME:20210524T125557Z
DESCRIPTION:UNA Europa Webinars
LAST-MODIFIED;VALUE=DATE-TIME:20210524T130653Z
URL:https://dsps.unibo.it/it/eventi/dialogues-between-policymakers-and-aca
 demia-on-global-governance
END:VEVENT
END:VCALENDAR
