BEGIN:VCALENDAR
VERSION:2.0
PRODID:-//Plone.org//NONSGML plone.app.event//EN
X-WR-TIMEZONE:Europe/Rome
BEGIN:VEVENT
SUMMARY:Deindustrialization and the Populist Challenge: Comparing East and
  West
DTSTART;TZID=Europe/Rome;VALUE=DATE-TIME:20211116T173000
DTEND;TZID=Europe/Rome;VALUE=DATE-TIME:20211116T190000
DTSTAMP;VALUE=DATE-TIME:20260419T184842Z
UID:2fb377a6588f4029a47dd24dceaea649@dsps.unibo.it
CREATED;VALUE=DATE-TIME:20211019T092823Z
LAST-MODIFIED;VALUE=DATE-TIME:20211019T092825Z
URL:https://dsps.unibo.it/it/eventi/deindustrialization-and-the-populist-c
 hallenge-comparing-east-and-west
END:VEVENT
BEGIN:VTIMEZONE
TZID:Europe/Rome
X-LIC-LOCATION:Europe/Rome
BEGIN:STANDARD
DTSTART;VALUE=DATE-TIME:20211031T020000
TZNAME:CET
TZOFFSETFROM:+0200
TZOFFSETTO:+0100
END:STANDARD
END:VTIMEZONE
END:VCALENDAR
