BEGIN:VCALENDAR
VERSION:2.0
PRODID:-//Plone.org//NONSGML plone.app.event//EN
X-WR-TIMEZONE:Europe/Rome
BEGIN:VEVENT
SUMMARY:Deconstructing Realities and Framing Policies in the New European 
 Borderlands
DTSTART;TZID=Europe/Rome;VALUE=DATE-TIME:20211216T130000
DTEND;TZID=Europe/Rome;VALUE=DATE-TIME:20211216T163000
DTSTAMP;VALUE=DATE-TIME:20260419T190013Z
UID:0f0c27eff1c34430a0139f57365b068a@dsps.unibo.it
CREATED;VALUE=DATE-TIME:20211209T145250Z
DESCRIPTION:The conference is convened by Ana Nikodinovska Krstevska and O
 lga Koshevaliska\, University Goce Delchev – Shtip\, as part of the Bord
 EUr Jean Monnet Network.
LAST-MODIFIED;VALUE=DATE-TIME:20211209T150150Z
URL:https://dsps.unibo.it/it/eventi/deconstructing-realities-and-framing-p
 olicies-in-the-new-european-borderlands
END:VEVENT
BEGIN:VTIMEZONE
TZID:Europe/Rome
X-LIC-LOCATION:Europe/Rome
BEGIN:STANDARD
DTSTART;VALUE=DATE-TIME:20211031T020000
TZNAME:CET
TZOFFSETFROM:+0200
TZOFFSETTO:+0100
END:STANDARD
END:VTIMEZONE
END:VCALENDAR
