BEGIN:VCALENDAR
VERSION:2.0
PRODID:-//Plone.org//NONSGML plone.app.event//EN
X-WR-TIMEZONE:Europe/Rome
BEGIN:VEVENT
SUMMARY:Cyber and the prohibition of intervention
DTSTART;TZID=Europe/Rome;VALUE=DATE-TIME:20211130T110000
DTEND;TZID=Europe/Rome;VALUE=DATE-TIME:20211130T130000
DTSTAMP;VALUE=DATE-TIME:20260419T204102Z
UID:21e9a783e8864a21967308a4079c1c1f@dsps.unibo.it
CREATED;VALUE=DATE-TIME:20211102T091700Z
DESCRIPTION:Visiting Professor Marko Milanovic\, University of Nottingham 
 (UK) - PIL Talk @ Forlì
LAST-MODIFIED;VALUE=DATE-TIME:20211124T102145Z
URL:https://dsps.unibo.it/it/eventi/cyber-and-the-prohibition-of-intervent
 ion
END:VEVENT
BEGIN:VTIMEZONE
TZID:Europe/Rome
X-LIC-LOCATION:Europe/Rome
BEGIN:STANDARD
DTSTART;VALUE=DATE-TIME:20211031T020000
TZNAME:CET
TZOFFSETFROM:+0200
TZOFFSETTO:+0100
END:STANDARD
END:VTIMEZONE
END:VCALENDAR
