BEGIN:VCALENDAR
VERSION:2.0
PRODID:-//Plone.org//NONSGML plone.app.event//EN
X-WR-TIMEZONE:Europe/Rome
BEGIN:VEVENT
SUMMARY:Cultural diversity and language minorities in the Italian governme
 nt’s online communication
DTSTART;TZID=Europe/Rome;VALUE=DATE-TIME:20210505T110000
DTEND;TZID=Europe/Rome;VALUE=DATE-TIME:20210505T120000
DTSTAMP;VALUE=DATE-TIME:20260419T202125Z
UID:4fd4c88b35154cc4acfca0f17559f65c@dsps.unibo.it
CREATED;VALUE=DATE-TIME:20210503T061216Z
DESCRIPTION:Post-docs webinar series
LAST-MODIFIED;VALUE=DATE-TIME:20210503T061528Z
URL:https://dsps.unibo.it/it/eventi/cultural-diversity-and-language-minori
 ties-in-the-italian-government-s-online-communication
END:VEVENT
BEGIN:VTIMEZONE
TZID:Europe/Rome
X-LIC-LOCATION:Europe/Rome
BEGIN:DAYLIGHT
DTSTART;VALUE=DATE-TIME:20210328T030000
TZNAME:CEST
TZOFFSETFROM:+0100
TZOFFSETTO:+0200
END:DAYLIGHT
END:VTIMEZONE
END:VCALENDAR
