BEGIN:VCALENDAR
VERSION:2.0
PRODID:-//Plone.org//NONSGML plone.app.event//EN
X-WR-TIMEZONE:Europe/Rome
BEGIN:VEVENT
SUMMARY:Crude Power: The Political Economy of Oil in the Kurdistan Region 
 of Iraq
DTSTART;TZID=Europe/Rome;VALUE=DATE-TIME:20210521T170000
DTEND;TZID=Europe/Rome;VALUE=DATE-TIME:20210521T190000
DTSTAMP;VALUE=DATE-TIME:20260419T190208Z
UID:333cae02ea464cd1bb33337f8395ce62@dsps.unibo.it
CREATED;VALUE=DATE-TIME:20210325T135828Z
DESCRIPTION:Alessandro Tinti (University La Sapienza – Rome and Universi
 ty of Bologna)
LAST-MODIFIED;VALUE=DATE-TIME:20210514T110933Z
URL:https://dsps.unibo.it/it/eventi/crude-power-the-political-economy-of-o
 il-in-the-kurdistan-region-of-iraq
END:VEVENT
BEGIN:VTIMEZONE
TZID:Europe/Rome
X-LIC-LOCATION:Europe/Rome
BEGIN:DAYLIGHT
DTSTART;VALUE=DATE-TIME:20210328T030000
TZNAME:CEST
TZOFFSETFROM:+0100
TZOFFSETTO:+0200
END:DAYLIGHT
END:VTIMEZONE
END:VCALENDAR
