BEGIN:VCALENDAR
VERSION:2.0
PRODID:-//Plone.org//NONSGML plone.app.event//EN
X-WR-TIMEZONE:Europe/Rome
BEGIN:VEVENT
SUMMARY:"Critica della ragione artificiale. Una difesa dell'umanità" di 
 Éric Sadin
DTSTART;TZID=Europe/Rome;VALUE=DATE-TIME:20210708T170000
DTEND;TZID=Europe/Rome;VALUE=DATE-TIME:20210708T180000
DTSTAMP;VALUE=DATE-TIME:20260419T190043Z
UID:4ba8a4af901f4198b13b17a6a4bb603b@dsps.unibo.it
CREATED;VALUE=DATE-TIME:20210223T085230Z
DESCRIPTION:Ciclo di seminari "Dell’utilità e il danno dell’algoritmo
  per la vita: ovvero dell’artificialità intelligente e del potere"
LAST-MODIFIED;VALUE=DATE-TIME:20210223T085334Z
URL:https://dsps.unibo.it/it/eventi/critica-della-ragione-artificiale-una-
 difesa-dell-umanita-di-eric-sadin
END:VEVENT
BEGIN:VTIMEZONE
TZID:Europe/Rome
X-LIC-LOCATION:Europe/Rome
BEGIN:DAYLIGHT
DTSTART;VALUE=DATE-TIME:20210328T030000
TZNAME:CEST
TZOFFSETFROM:+0100
TZOFFSETTO:+0200
END:DAYLIGHT
END:VTIMEZONE
END:VCALENDAR
