BEGIN:VCALENDAR
VERSION:2.0
PRODID:-//Plone.org//NONSGML plone.app.event//EN
X-WR-TIMEZONE:Europe/Rome
BEGIN:VEVENT
SUMMARY:Critica della ragione artificiale. Una difesa dell'umanità\, di 
 Éric Sadin
DTSTART;TZID=Europe/Rome;VALUE=DATE-TIME:20210708T170000
DTEND;TZID=Europe/Rome;VALUE=DATE-TIME:20210708T190000
DTSTAMP;VALUE=DATE-TIME:20260419T190132Z
UID:8fa287f3cc7c44079961d04de6b0bf50@dsps.unibo.it
CREATED;VALUE=DATE-TIME:20210615T064815Z
DESCRIPTION:Ciclo di seminari "Dell’utilità e il danno dell’algoritmo
  per la vita: ovvero dell’artificialità intelligente e del potere"
LAST-MODIFIED;VALUE=DATE-TIME:20210615T065012Z
URL:https://dsps.unibo.it/it/eventi/critica-della-ragione-artificiale-una-
 difesa-dell-umanita-di-eric-sadin-1
END:VEVENT
BEGIN:VTIMEZONE
TZID:Europe/Rome
X-LIC-LOCATION:Europe/Rome
BEGIN:DAYLIGHT
DTSTART;VALUE=DATE-TIME:20210328T030000
TZNAME:CEST
TZOFFSETFROM:+0100
TZOFFSETTO:+0200
END:DAYLIGHT
END:VTIMEZONE
END:VCALENDAR
