BEGIN:VCALENDAR
VERSION:2.0
PRODID:-//Plone.org//NONSGML plone.app.event//EN
X-WR-TIMEZONE:Europe/Rome
BEGIN:VEVENT
SUMMARY:COVID-19 and Trends on Constitutionalism: a Comparative Approach
DTSTART;TZID=Europe/Rome;VALUE=DATE-TIME:20210422T170000
DTEND;TZID=Europe/Rome;VALUE=DATE-TIME:20210422T180000
DTSTAMP;VALUE=DATE-TIME:20260419T215553Z
UID:778801b447ac4138ac7f3a7a0d38727d@dsps.unibo.it
CREATED;VALUE=DATE-TIME:20210401T163722Z
DESCRIPTION:Seminario organizzato con la "Global Law and Policy for the Am
 ericas Initiative"\, University of Houston.
LAST-MODIFIED;VALUE=DATE-TIME:20210401T164236Z
URL:https://dsps.unibo.it/it/eventi/covid-19-and-trends-on-constitutionali
 sm-a-comparative-approach
END:VEVENT
BEGIN:VTIMEZONE
TZID:Europe/Rome
X-LIC-LOCATION:Europe/Rome
BEGIN:DAYLIGHT
DTSTART;VALUE=DATE-TIME:20210328T030000
TZNAME:CEST
TZOFFSETFROM:+0100
TZOFFSETTO:+0200
END:DAYLIGHT
END:VTIMEZONE
END:VCALENDAR
