BEGIN:VCALENDAR
VERSION:2.0
PRODID:-//Plone.org//NONSGML plone.app.event//EN
X-WR-TIMEZONE:Europe/Rome
BEGIN:VEVENT
SUMMARY:Costruendo un vocabolario minimo dell’interculturalità con appr
 occio interdisciplinare
DTSTART;TZID=Europe/Rome;VALUE=DATE-TIME:20210519T090000
DTEND;TZID=Europe/Rome;VALUE=DATE-TIME:20210519T180000
DTSTAMP;VALUE=DATE-TIME:20260419T190132Z
UID:a89d629a6fc145969c6be8530aafb01d@dsps.unibo.it
CREATED;VALUE=DATE-TIME:20210507T065629Z
DESCRIPTION:Conferenza organizzata nell’ambito del progetto “Dal plura
 lismo giuridico allo Stato interculturale. Statuti personali\, deroghe al 
 diritto comune e limiti inderogabili nello spazio giuridico europeo"
LAST-MODIFIED;VALUE=DATE-TIME:20210507T065820Z
URL:https://dsps.unibo.it/it/eventi/costruendo-un-vocabolario-minimo-dell-
 interculturalita-con-approccio-interdisciplinare
END:VEVENT
BEGIN:VTIMEZONE
TZID:Europe/Rome
X-LIC-LOCATION:Europe/Rome
BEGIN:DAYLIGHT
DTSTART;VALUE=DATE-TIME:20210328T030000
TZNAME:CEST
TZOFFSETFROM:+0100
TZOFFSETTO:+0200
END:DAYLIGHT
END:VTIMEZONE
END:VCALENDAR
