BEGIN:VCALENDAR
VERSION:2.0
PRODID:-//Plone.org//NONSGML plone.app.event//EN
X-WR-TIMEZONE:Europe/Rome
BEGIN:VEVENT
SUMMARY:Conversazione con gli Autori - Beatrice Gallelli & Matteo Dian
DTSTART;TZID=Europe/Rome;VALUE=DATE-TIME:20211129T173000
DTEND;TZID=Europe/Rome;VALUE=DATE-TIME:20211129T193000
DTSTAMP;VALUE=DATE-TIME:20260419T190043Z
UID:5014669669094226b83012ac272e7c2a@dsps.unibo.it
CREATED;VALUE=DATE-TIME:20211123T163034Z
DESCRIPTION:Ciclo "Conversazione con gli Autori" a cura dell' Asia Institu
 te
LAST-MODIFIED;VALUE=DATE-TIME:20211124T100023Z
URL:https://dsps.unibo.it/it/eventi/conversazione-con-gli-autori-beatrice-
 gallelli-matteo-dian
END:VEVENT
BEGIN:VTIMEZONE
TZID:Europe/Rome
X-LIC-LOCATION:Europe/Rome
BEGIN:STANDARD
DTSTART;VALUE=DATE-TIME:20211031T020000
TZNAME:CET
TZOFFSETFROM:+0200
TZOFFSETTO:+0100
END:STANDARD
END:VTIMEZONE
END:VCALENDAR
