BEGIN:VCALENDAR
VERSION:2.0
PRODID:-//Plone.org//NONSGML plone.app.event//EN
X-WR-TIMEZONE:Europe/Rome
BEGIN:VEVENT
SUMMARY:Convegno Internazionale "Esperando las elecciones a la Convención
  Constituyente: cuestiones a debate "
DTSTART;TZID=Europe/Rome;VALUE=DATE-TIME:20210120T160000
DTEND;TZID=Europe/Rome;VALUE=DATE-TIME:20210120T173000
DTSTAMP;VALUE=DATE-TIME:20260419T190132Z
UID:8a706efdcba9473b882ccf15a777a9f6@dsps.unibo.it
CREATED;VALUE=DATE-TIME:20210112T073111Z
DESCRIPTION:A cura del centro Studi sull'America Latina
LAST-MODIFIED;VALUE=DATE-TIME:20210318T073557Z
URL:https://dsps.unibo.it/it/eventi/convegno-internazionale-esperando-las-
 elecciones-a-la-convenci-n-constituyente-cuestiones-a-debate
END:VEVENT
BEGIN:VTIMEZONE
TZID:Europe/Rome
X-LIC-LOCATION:Europe/Rome
BEGIN:STANDARD
DTSTART;VALUE=DATE-TIME:20201025T020000
TZNAME:CET
TZOFFSETFROM:+0200
TZOFFSETTO:+0100
END:STANDARD
END:VTIMEZONE
END:VCALENDAR
