BEGIN:VCALENDAR
VERSION:2.0
PRODID:-//Plone.org//NONSGML plone.app.event//EN
X-WR-TIMEZONE:Europe/Rome
BEGIN:VEVENT
SUMMARY:"Discriminating Data. Correlation\, Neighborhoods\, and the New Po
 litics of Recognition" di Wendy Chun
DTSTART;TZID=Europe/Rome;VALUE=DATE-TIME:20211215T173000
DTEND;TZID=Europe/Rome;VALUE=DATE-TIME:20211215T183000
DTSTAMP;VALUE=DATE-TIME:20260419T171540Z
UID:f5b3b003dcd448ffa7085108f4f073e0@dsps.unibo.it
CREATED;VALUE=DATE-TIME:20211109T112435Z
DESCRIPTION:Ciclo di seminari "Dell’utilità e il danno dell’algoritmo
  per la vita: ovvero dell’artificialità intelligente e del potere"
LAST-MODIFIED;VALUE=DATE-TIME:20211214T064540Z
URL:https://dsps.unibo.it/it/eventi/control-and-freedom-power-and-paranoia
 -in-the-age-of-fiber-optics-programmed-visions-software-and-memory-updatin
 g-to-remain-the-same-habitual-new-media-di-wendy-hui-kyong-chun
END:VEVENT
BEGIN:VTIMEZONE
TZID:Europe/Rome
X-LIC-LOCATION:Europe/Rome
BEGIN:STANDARD
DTSTART;VALUE=DATE-TIME:20211031T020000
TZNAME:CET
TZOFFSETFROM:+0200
TZOFFSETTO:+0100
END:STANDARD
END:VTIMEZONE
END:VCALENDAR
