BEGIN:VCALENDAR
VERSION:2.0
PRODID:-//Plone.org//NONSGML plone.app.event//EN
X-WR-TIMEZONE:Europe/Rome
BEGIN:VEVENT
SUMMARY:"Contagious Architecture: Computation\, Aesthetics\, and Space" di
  Luciana Parisi
DTSTART;TZID=Europe/Rome;VALUE=DATE-TIME:20210624T170000
DTEND;TZID=Europe/Rome;VALUE=DATE-TIME:20210624T180000
DTSTAMP;VALUE=DATE-TIME:20260419T185607Z
UID:c6c8e4f38437434ab870a072db73aec7@dsps.unibo.it
CREATED;VALUE=DATE-TIME:20210223T084958Z
DESCRIPTION:Ciclo di seminari "Dell’utilità e il danno dell’algoritmo
  per la vita: ovvero dell’artificialità intelligente e del potere"
LAST-MODIFIED;VALUE=DATE-TIME:20210223T085112Z
URL:https://dsps.unibo.it/it/eventi/contagious-architecture-computation-ae
 sthetics-and-space-di-luciana-parisi
END:VEVENT
BEGIN:VTIMEZONE
TZID:Europe/Rome
X-LIC-LOCATION:Europe/Rome
BEGIN:DAYLIGHT
DTSTART;VALUE=DATE-TIME:20210328T030000
TZNAME:CEST
TZOFFSETFROM:+0100
TZOFFSETTO:+0200
END:DAYLIGHT
END:VTIMEZONE
END:VCALENDAR
