BEGIN:VCALENDAR
VERSION:2.0
PRODID:-//Plone.org//NONSGML plone.app.event//EN
X-WR-TIMEZONE:Europe/Rome
BEGIN:VEVENT
SUMMARY:CONFERENZA: Il futuro del Welfare State: nuove risposte e nuove di
 suguaglianze
DTSTART;TZID=Europe/Rome;VALUE=DATE-TIME:20210328T170000
DTEND;TZID=Europe/Rome;VALUE=DATE-TIME:20210328T190000
DTSTAMP;VALUE=DATE-TIME:20260421T174243Z
UID:93cead50f55d4f14a1f2185a2b0ada99@dsps.unibo.it
CREATED;VALUE=DATE-TIME:20210323T193756Z
DESCRIPTION:Conferenza Organizzata dall'Associazione Hikma
LAST-MODIFIED;VALUE=DATE-TIME:20210323T194455Z
URL:https://dsps.unibo.it/it/eventi/conferenza-il-futuro-del-welfare-state
 -nuove-risposte-a-nuove-disuguaglianze
END:VEVENT
BEGIN:VTIMEZONE
TZID:Europe/Rome
X-LIC-LOCATION:Europe/Rome
BEGIN:DAYLIGHT
DTSTART;VALUE=DATE-TIME:20210328T030000
TZNAME:CEST
TZOFFSETFROM:+0100
TZOFFSETTO:+0200
END:DAYLIGHT
END:VTIMEZONE
END:VCALENDAR
