BEGIN:VCALENDAR
VERSION:2.0
PRODID:-//Plone.org//NONSGML plone.app.event//EN
X-WR-TIMEZONE:Europe/Rome
BEGIN:VEVENT
SUMMARY:Conference on "International cooperation and the evolving shapes o
 f global governance: peace\, development and humanitarian assistance"
DTSTART;TZID=Europe/Rome;VALUE=DATE-TIME:20191203T090000
DTEND;TZID=Europe/Rome;VALUE=DATE-TIME:20191203T181500
DTSTAMP;VALUE=DATE-TIME:20260419T135620Z
UID:eca253034e5845f787ce5b1bde49b516@dsps.unibo.it
CREATED;VALUE=DATE-TIME:20191128T103549Z
LAST-MODIFIED;VALUE=DATE-TIME:20191128T103616Z
URL:https://dsps.unibo.it/it/eventi/conference-on-international-cooperatio
 n-and-the-evolving-shapes-of-global-governance-peace-development-and-human
 itarian-assistance
END:VEVENT
BEGIN:VTIMEZONE
TZID:Europe/Rome
X-LIC-LOCATION:Europe/Rome
BEGIN:STANDARD
DTSTART;VALUE=DATE-TIME:20191027T020000
TZNAME:CET
TZOFFSETFROM:+0200
TZOFFSETTO:+0100
END:STANDARD
END:VTIMEZONE
END:VCALENDAR
