BEGIN:VCALENDAR
VERSION:2.0
PRODID:-//Plone.org//NONSGML plone.app.event//EN
X-WR-TIMEZONE:Europe/Rome
BEGIN:VEVENT
SUMMARY:Col visto nel libretto: gli studenti africani in Italia negli anni
  della Guerra Fredda
DTSTART;TZID=Europe/Rome;VALUE=DATE-TIME:20210526T120000
DTEND;TZID=Europe/Rome;VALUE=DATE-TIME:20210526T130000
DTSTAMP;VALUE=DATE-TIME:20260419T190136Z
UID:1c8abf9b8d9041c6a2b4408547d2784a@dsps.unibo.it
CREATED;VALUE=DATE-TIME:20210524T082744Z
DESCRIPTION:Post-Docs Webinar Series
LAST-MODIFIED;VALUE=DATE-TIME:20210524T083118Z
URL:https://dsps.unibo.it/it/eventi/col-visto-nel-libretto-gli-studenti-af
 ricani-in-italia-negli-anni-della-guerra-fredda
END:VEVENT
BEGIN:VTIMEZONE
TZID:Europe/Rome
X-LIC-LOCATION:Europe/Rome
BEGIN:DAYLIGHT
DTSTART;VALUE=DATE-TIME:20210328T030000
TZNAME:CEST
TZOFFSETFROM:+0100
TZOFFSETTO:+0200
END:DAYLIGHT
END:VTIMEZONE
END:VCALENDAR
