BEGIN:VCALENDAR
VERSION:2.0
PRODID:-//Plone.org//NONSGML plone.app.event//EN
X-WR-TIMEZONE:Europe/Rome
BEGIN:VEVENT
SUMMARY:"Cloud Ethics: Algorithms and the Attributes of Ourselves and Othe
 rs" di Louise Amoore
DTSTART;TZID=Europe/Rome;VALUE=DATE-TIME:20210422T170000
DTEND;TZID=Europe/Rome;VALUE=DATE-TIME:20210422T180000
DTSTAMP;VALUE=DATE-TIME:20260420T030102Z
UID:d69b181789884ab98e11fd7395858188@dsps.unibo.it
CREATED;VALUE=DATE-TIME:20210223T083635Z
DESCRIPTION:Ciclo di seminari "Dell’utilità e il danno dell’algoritmo
  per la vita: ovvero dell’artificialità intelligente e del potere"
LAST-MODIFIED;VALUE=DATE-TIME:20210223T083754Z
URL:https://dsps.unibo.it/it/eventi/cloud-ethics-algorithms-and-the-attrib
 utes-of-ourselves-and-others-di-louise-amoore
END:VEVENT
BEGIN:VTIMEZONE
TZID:Europe/Rome
X-LIC-LOCATION:Europe/Rome
BEGIN:DAYLIGHT
DTSTART;VALUE=DATE-TIME:20210328T030000
TZNAME:CEST
TZOFFSETFROM:+0100
TZOFFSETTO:+0200
END:DAYLIGHT
END:VTIMEZONE
END:VCALENDAR
