BEGIN:VCALENDAR
VERSION:2.0
PRODID:-//Plone.org//NONSGML plone.app.event//EN
X-WR-TIMEZONE:Europe/Rome
BEGIN:VEVENT
SUMMARY:Climate change and the environment - Il Green Deal ed i cambiament
 i climatici
DTSTART;TZID=Europe/Rome;VALUE=DATE-TIME:20210506T180000
DTEND;TZID=Europe/Rome;VALUE=DATE-TIME:20210506T193000
DTSTAMP;VALUE=DATE-TIME:20260419T202126Z
UID:394137846d1c4abc8a1e68c6077f21d6@dsps.unibo.it
CREATED;VALUE=DATE-TIME:20210415T132601Z
DESCRIPTION:Il Green Deal ed i cambiamenti climatici
LAST-MODIFIED;VALUE=DATE-TIME:20210423T091422Z
URL:https://dsps.unibo.it/it/eventi/climate-change-and-the-environment-il-
 green-deal-ed-i-cambiamenti-climatici
END:VEVENT
BEGIN:VTIMEZONE
TZID:Europe/Rome
X-LIC-LOCATION:Europe/Rome
BEGIN:DAYLIGHT
DTSTART;VALUE=DATE-TIME:20210328T030000
TZNAME:CEST
TZOFFSETFROM:+0100
TZOFFSETTO:+0200
END:DAYLIGHT
END:VTIMEZONE
END:VCALENDAR
