BEGIN:VCALENDAR
VERSION:2.0
PRODID:-//Plone.org//NONSGML plone.app.event//EN
X-WR-TIMEZONE:Europe/Rome
BEGIN:VEVENT
SUMMARY:CITTADINANZA E APPARTENENZA  IN UN MONDO (DIS)INTEGRATO
DTSTART;TZID=Europe/Rome;VALUE=DATE-TIME:20150309T100000
DTEND;TZID=Europe/Rome;VALUE=DATE-TIME:20150309T150000
DTSTAMP;VALUE=DATE-TIME:20260419T220858Z
UID:6c512a341b99437399dc48dad305aeb0@dsps.unibo.it
CREATED;VALUE=DATE-TIME:20150223T091847Z
DESCRIPTION:II° Congresso del Centro studi sull'America latina 
LAST-MODIFIED;VALUE=DATE-TIME:20150223T091854Z
URL:https://dsps.unibo.it/it/eventi/cittadinanza-e-appartenenza-in-un-mond
 o-dis-integrato
END:VEVENT
BEGIN:VTIMEZONE
TZID:Europe/Rome
X-LIC-LOCATION:Europe/Rome
BEGIN:STANDARD
DTSTART;VALUE=DATE-TIME:20141026T020000
TZNAME:CET
TZOFFSETFROM:+0200
TZOFFSETTO:+0100
END:STANDARD
END:VTIMEZONE
END:VCALENDAR
