BEGIN:VCALENDAR
VERSION:2.0
PRODID:-//Plone.org//NONSGML plone.app.event//EN
X-WR-TIMEZONE:Europe/Rome
BEGIN:VEVENT
SUMMARY:Ciclo di seminari: Politics and Social Policy
DTSTART;VALUE=DATE:20210311
DTEND;VALUE=DATE:20211201
DTSTAMP;VALUE=DATE-TIME:20260419T223204Z
UID:96f25b854e4b4452ab7af523a19763b5@dsps.unibo.it
CREATED;VALUE=DATE-TIME:20210316T081312Z
DESCRIPTION:Ciclo di seminari promosso dal corso di Laurea Magistrale in P
 olitica\, Amministrazione e Organizzazione (curriculum internazionale: Pol
 itics and Social Policy)\, da marzo 2021 a novembre 2021
LAST-MODIFIED;VALUE=DATE-TIME:20220919T073655Z
URL:https://dsps.unibo.it/it/eventi/ciclo-di-seminari-politics-and-social-
 policy
END:VEVENT
END:VCALENDAR
