BEGIN:VCALENDAR
VERSION:2.0
PRODID:-//Plone.org//NONSGML plone.app.event//EN
X-WR-TIMEZONE:Europe/Rome
BEGIN:VEVENT
SUMMARY:Ciclo di Open Lectures del Corso di Laurea Magistrale INTERDISCIPL
 INARY RESEARCH AND STUDIES ON EASTERN EUROPE
DTSTART;VALUE=DATE:20210318
DTEND;VALUE=DATE:20210609
DTSTAMP;VALUE=DATE-TIME:20260419T190132Z
UID:069b1de9acc54522a570df230d58bb92@dsps.unibo.it
CREATED;VALUE=DATE-TIME:20210309T134206Z
DESCRIPTION:Organizzati nell'ambito del Workshops on Eastern European Poli
 tics and Economics 2020/2021
LAST-MODIFIED;VALUE=DATE-TIME:20210323T115025Z
URL:https://dsps.unibo.it/it/eventi/ciclo-di-seminari-del-corso-di-laurea-
 magistrale-interdisciplinary-research-and-studies-on-eastern-europe
END:VEVENT
END:VCALENDAR
