BEGIN:VCALENDAR
VERSION:2.0
PRODID:-//Plone.org//NONSGML plone.app.event//EN
X-WR-TIMEZONE:Europe/Rome
BEGIN:VEVENT
SUMMARY:Ciclo di eventi "Promuovere la cittadinanza attiva europea in temp
 i di crisi"
DTSTART;TZID=Europe/Rome;VALUE=DATE-TIME:20191210T183000
DTEND;TZID=Europe/Rome;VALUE=DATE-TIME:20191212T170000
DTSTAMP;VALUE=DATE-TIME:20260421T132142Z
UID:37521e8d42c648da97ed6f932943bd27@dsps.unibo.it
CREATED;VALUE=DATE-TIME:20191206T145154Z
LAST-MODIFIED;VALUE=DATE-TIME:20191206T145305Z
URL:https://dsps.unibo.it/it/eventi/ciclo-di-eventi-promuovere-la-cittadin
 anza-attiva-europea-in-tempi-di-crisi
END:VEVENT
BEGIN:VTIMEZONE
TZID:Europe/Rome
X-LIC-LOCATION:Europe/Rome
BEGIN:STANDARD
DTSTART;VALUE=DATE-TIME:20191027T020000
TZNAME:CET
TZOFFSETFROM:+0200
TZOFFSETTO:+0100
END:STANDARD
END:VTIMEZONE
END:VCALENDAR
