BEGIN:VCALENDAR
VERSION:2.0
PRODID:-//Plone.org//NONSGML plone.app.event//EN
X-WR-TIMEZONE:Europe/Rome
BEGIN:VEVENT
SUMMARY:Cento anni dopo: 1917-2017. Da Lenin a Zuckerberg
DTSTART;TZID=Europe/Rome;VALUE=DATE-TIME:20211020T173000
DTEND;TZID=Europe/Rome;VALUE=DATE-TIME:20211020T183000
DTSTAMP;VALUE=DATE-TIME:20260423T223225Z
UID:d2333b3cc8ec460d94db25cd39c99b67@dsps.unibo.it
CREATED;VALUE=DATE-TIME:20211018T091830Z
DESCRIPTION:Ciclo di seminari "Dell’utilità e il danno dell’algoritmo
  per la vita: ovvero dell’artificialità intelligente e del potere"
LAST-MODIFIED;VALUE=DATE-TIME:20211018T092444Z
URL:https://dsps.unibo.it/it/eventi/cento-anni-dopo-1917-2017-da-lenin-a-z
 uckerberg
END:VEVENT
BEGIN:VTIMEZONE
TZID:Europe/Rome
X-LIC-LOCATION:Europe/Rome
BEGIN:DAYLIGHT
DTSTART;VALUE=DATE-TIME:20210328T030000
TZNAME:CEST
TZOFFSETFROM:+0100
TZOFFSETTO:+0200
END:DAYLIGHT
END:VTIMEZONE
END:VCALENDAR
