BEGIN:VCALENDAR
VERSION:2.0
PRODID:-//Plone.org//NONSGML plone.app.event//EN
X-WR-TIMEZONE:Europe/Rome
BEGIN:VEVENT
SUMMARY:Celebrities and Audiences: slow reality shows in China
DTSTART;TZID=Europe/Rome;VALUE=DATE-TIME:20211029T110000
DTEND;TZID=Europe/Rome;VALUE=DATE-TIME:20211029T123000
DTSTAMP;VALUE=DATE-TIME:20260419T185607Z
UID:b6b2b0ec5a58413ebb771ee7f4bdb0cd@dsps.unibo.it
CREATED;VALUE=DATE-TIME:20211023T054628Z
LAST-MODIFIED;VALUE=DATE-TIME:20211025T063122Z
URL:https://dsps.unibo.it/it/eventi/celebrities-and-audiences-slow-reality
 -shows-in-china
END:VEVENT
BEGIN:VTIMEZONE
TZID:Europe/Rome
X-LIC-LOCATION:Europe/Rome
BEGIN:DAYLIGHT
DTSTART;VALUE=DATE-TIME:20210328T030000
TZNAME:CEST
TZOFFSETFROM:+0100
TZOFFSETTO:+0200
END:DAYLIGHT
END:VTIMEZONE
END:VCALENDAR
