BEGIN:VCALENDAR
VERSION:2.0
PRODID:-//Plone.org//NONSGML plone.app.event//EN
X-WR-TIMEZONE:Europe/Rome
BEGIN:VEVENT
SUMMARY:CampusForYou2021
DTSTART;TZID=Europe/Rome;VALUE=DATE-TIME:20211109T150000
DTEND;TZID=Europe/Rome;VALUE=DATE-TIME:20211109T170000
DTSTAMP;VALUE=DATE-TIME:20260419T185302Z
UID:ba56bcc2b06d43b4976e8369c4225dbd@dsps.unibo.it
CREATED;VALUE=DATE-TIME:20211105T080958Z
DESCRIPTION:Virtual Open Day del corso di Laurea in Scienze Internazionali
  e Diplomatiche
LAST-MODIFIED;VALUE=DATE-TIME:20211105T081827Z
URL:https://dsps.unibo.it/it/eventi/campusforyou2021
END:VEVENT
BEGIN:VTIMEZONE
TZID:Europe/Rome
X-LIC-LOCATION:Europe/Rome
BEGIN:STANDARD
DTSTART;VALUE=DATE-TIME:20211031T020000
TZNAME:CET
TZOFFSETFROM:+0200
TZOFFSETTO:+0100
END:STANDARD
END:VTIMEZONE
END:VCALENDAR
