BEGIN:VCALENDAR
VERSION:2.0
PRODID:-//Plone.org//NONSGML plone.app.event//EN
X-WR-TIMEZONE:Europe/Rome
BEGIN:VEVENT
SUMMARY:Building research synergies in global governance
DTSTART;VALUE=DATE:20210902
DTEND;VALUE=DATE:20210904
DTSTAMP;VALUE=DATE-TIME:20260423T223225Z
UID:5047724efdbf4fc4a76b59d8d4030433@dsps.unibo.it
CREATED;VALUE=DATE-TIME:20210831T065729Z
DESCRIPTION:Convegno organizzato da Una Europa Global Governance Research 
 Group
LAST-MODIFIED;VALUE=DATE-TIME:20210831T070107Z
URL:https://dsps.unibo.it/it/eventi/building-research-synergies-in-global-
 governance
END:VEVENT
END:VCALENDAR
