BEGIN:VCALENDAR
VERSION:2.0
PRODID:-//Plone.org//NONSGML plone.app.event//EN
X-WR-TIMEZONE:Europe/Rome
BEGIN:VEVENT
SUMMARY:Brigate Rosse and Rote Armee Fraktion
DTSTART;TZID=Europe/Rome;VALUE=DATE-TIME:20160318T110000
DTEND;TZID=Europe/Rome;VALUE=DATE-TIME:20160318T130000
DTSTAMP;VALUE=DATE-TIME:20260419T153615Z
UID:8c8cbdaad7654f3db2acff35633c9e28@dsps.unibo.it
CREATED;VALUE=DATE-TIME:20160316T122741Z
DESCRIPTION:Protagonists\, Propaganda and Practice of Terrorism in the fou
 nding generations
LAST-MODIFIED;VALUE=DATE-TIME:20160316T122835Z
URL:https://dsps.unibo.it/it/eventi/brigate-rosse-and-rote-armee-fraktion
END:VEVENT
BEGIN:VTIMEZONE
TZID:Europe/Rome
X-LIC-LOCATION:Europe/Rome
BEGIN:STANDARD
DTSTART;VALUE=DATE-TIME:20151025T020000
TZNAME:CET
TZOFFSETFROM:+0200
TZOFFSETTO:+0100
END:STANDARD
END:VTIMEZONE
END:VCALENDAR
