BEGIN:VCALENDAR
VERSION:2.0
PRODID:-//Plone.org//NONSGML plone.app.event//EN
X-WR-TIMEZONE:Europe/Rome
BEGIN:VEVENT
SUMMARY:BORDERS\, TERRITORIALITY AND SOVEREIGNTY IN THE SOUTHERN CAUCASUS
DTSTART;TZID=Europe/Rome;VALUE=DATE-TIME:20251202T130000
DTEND;TZID=Europe/Rome;VALUE=DATE-TIME:20251202T150000
DTSTAMP;VALUE=DATE-TIME:20260420T011449Z
UID:ce90eba3b0f7441f8ae536f5a4fe83c4@dsps.unibo.it
CREATED;VALUE=DATE-TIME:20251127T124223Z
DESCRIPTION:Within the Course ‘Borders and International Relations’
LAST-MODIFIED;VALUE=DATE-TIME:20251127T124251Z
URL:https://dsps.unibo.it/it/eventi/borders-territoriality-and-sovereignty
 -in-the-southern-caucasus
END:VEVENT
BEGIN:VTIMEZONE
TZID:Europe/Rome
X-LIC-LOCATION:Europe/Rome
BEGIN:STANDARD
DTSTART;VALUE=DATE-TIME:20251026T020000
TZNAME:CET
TZOFFSETFROM:+0200
TZOFFSETTO:+0100
END:STANDARD
END:VTIMEZONE
END:VCALENDAR
