BEGIN:VCALENDAR
VERSION:2.0
PRODID:-//Plone.org//NONSGML plone.app.event//EN
X-WR-TIMEZONE:Europe/Rome
BEGIN:VEVENT
SUMMARY:Beyond neutrality? The humanitarian-peace nexus revisited
DTSTART;TZID=Europe/Rome;VALUE=DATE-TIME:20210330T110000
DTEND;TZID=Europe/Rome;VALUE=DATE-TIME:20210330T130000
DTSTAMP;VALUE=DATE-TIME:20260421T155015Z
UID:d444d76959534a1980c7476979e369db@dsps.unibo.it
CREATED;VALUE=DATE-TIME:20210325T132709Z
DESCRIPTION:Bernardo Venturi (Associate Fellow\, IAI and Director\, Agency
  for Peacebuilding)\nDiscussant: Eugenia Baroncelli (University of Bologna
 )
LAST-MODIFIED;VALUE=DATE-TIME:20210329T101032Z
URL:https://dsps.unibo.it/it/eventi/beyond-neutrality-the-humanitarian-pea
 ce-nexus-revisited
END:VEVENT
BEGIN:VTIMEZONE
TZID:Europe/Rome
X-LIC-LOCATION:Europe/Rome
BEGIN:DAYLIGHT
DTSTART;VALUE=DATE-TIME:20210328T030000
TZNAME:CEST
TZOFFSETFROM:+0100
TZOFFSETTO:+0200
END:DAYLIGHT
END:VTIMEZONE
END:VCALENDAR
