BEGIN:VCALENDAR
VERSION:2.0
PRODID:-//Plone.org//NONSGML plone.app.event//EN
X-WR-TIMEZONE:Europe/Rome
BEGIN:VEVENT
SUMMARY:Beyond neutrality? The humanitarian-peace nexus revisited
DTSTART;TZID=Europe/Rome;VALUE=DATE-TIME:20210423T150000
DTEND;TZID=Europe/Rome;VALUE=DATE-TIME:20210423T170000
DTSTAMP;VALUE=DATE-TIME:20260419T193440Z
UID:9548edd7381147d0975aaa81be9d07c2@dsps.unibo.it
CREATED;VALUE=DATE-TIME:20210412T070849Z
DESCRIPTION:Bernardo Venturi (Associate Fellow\, IAI and Director\, Agency
  for Peacebuilding) Discussant: Eugenia Baroncelli (University of Bologna)
LAST-MODIFIED;VALUE=DATE-TIME:20210412T071235Z
URL:https://dsps.unibo.it/it/eventi/beyond-neutrality-the-humanitarian-pea
 ce-nexus-revisited-1
END:VEVENT
BEGIN:VTIMEZONE
TZID:Europe/Rome
X-LIC-LOCATION:Europe/Rome
BEGIN:DAYLIGHT
DTSTART;VALUE=DATE-TIME:20210328T030000
TZNAME:CEST
TZOFFSETFROM:+0100
TZOFFSETTO:+0200
END:DAYLIGHT
END:VTIMEZONE
END:VCALENDAR
