BEGIN:VCALENDAR
VERSION:2.0
PRODID:-//Plone.org//NONSGML plone.app.event//EN
X-WR-TIMEZONE:Europe/Rome
BEGIN:VEVENT
SUMMARY:Attualità e persistenza della servitù volontaria /Actualité et 
 pérsistance de la servitude volontaire
DTSTART;TZID=Europe/Rome;VALUE=DATE-TIME:20211021T150000
DTEND;TZID=Europe/Rome;VALUE=DATE-TIME:20211022T180000
DTSTAMP;VALUE=DATE-TIME:20260419T190132Z
UID:a35ab743bd2f43a99767e67b5c4d5dde@dsps.unibo.it
CREATED;VALUE=DATE-TIME:20211003T150801Z
LAST-MODIFIED;VALUE=DATE-TIME:20211003T150803Z
URL:https://dsps.unibo.it/it/eventi/attualita-e-persistenza-della-servitu-
 volontaria-actualite-et-persistance-de-la-servitude-volontaire
END:VEVENT
BEGIN:VTIMEZONE
TZID:Europe/Rome
X-LIC-LOCATION:Europe/Rome
BEGIN:DAYLIGHT
DTSTART;VALUE=DATE-TIME:20210328T030000
TZNAME:CEST
TZOFFSETFROM:+0100
TZOFFSETTO:+0200
END:DAYLIGHT
END:VTIMEZONE
END:VCALENDAR
