BEGIN:VCALENDAR
VERSION:2.0
PRODID:-//Plone.org//NONSGML plone.app.event//EN
X-WR-TIMEZONE:Europe/Rome
BEGIN:VEVENT
SUMMARY:Anti-corruption\, Transparency and Transnational activism
DTSTART;TZID=Europe/Rome;VALUE=DATE-TIME:20211216T163000
DTEND;TZID=Europe/Rome;VALUE=DATE-TIME:20211216T180000
DTSTAMP;VALUE=DATE-TIME:20260421T222424Z
UID:298bd993c48547ce80ac9fdbba30dafe@dsps.unibo.it
CREATED;VALUE=DATE-TIME:20211209T143745Z
DESCRIPTION:Nel quadro del progetto ERC BIT-ACT
LAST-MODIFIED;VALUE=DATE-TIME:20211209T150256Z
URL:https://dsps.unibo.it/it/eventi/anti-corruption-transparency-and-trans
 national-activism
END:VEVENT
BEGIN:VTIMEZONE
TZID:Europe/Rome
X-LIC-LOCATION:Europe/Rome
BEGIN:STANDARD
DTSTART;VALUE=DATE-TIME:20211031T020000
TZNAME:CET
TZOFFSETFROM:+0200
TZOFFSETTO:+0100
END:STANDARD
END:VTIMEZONE
END:VCALENDAR
