BEGIN:VCALENDAR
VERSION:2.0
PRODID:-//Plone.org//NONSGML plone.app.event//EN
X-WR-TIMEZONE:Europe/Rome
BEGIN:VEVENT
SUMMARY:Webinar - 9/11: 20 years later - American Wars after 9/11
DTSTART;TZID=Europe/Rome;VALUE=DATE-TIME:20211020T170000
DTEND;TZID=Europe/Rome;VALUE=DATE-TIME:20211020T190000
DTSTAMP;VALUE=DATE-TIME:20260419T201431Z
UID:10d75b95898a4ce182112039f42814ca@dsps.unibo.it
CREATED;VALUE=DATE-TIME:20210915T130725Z
DESCRIPTION:Seminario organizzato dal Centro Studi sugli Stati Uniti (LAB-
 USA)
LAST-MODIFIED;VALUE=DATE-TIME:20211006T091559Z
URL:https://dsps.unibo.it/it/eventi/american-wars-after-9-11
END:VEVENT
BEGIN:VTIMEZONE
TZID:Europe/Rome
X-LIC-LOCATION:Europe/Rome
BEGIN:DAYLIGHT
DTSTART;VALUE=DATE-TIME:20210328T030000
TZNAME:CEST
TZOFFSETFROM:+0100
TZOFFSETTO:+0200
END:DAYLIGHT
END:VTIMEZONE
END:VCALENDAR
