BEGIN:VCALENDAR
VERSION:2.0
PRODID:-//Plone.org//NONSGML plone.app.event//EN
X-WR-TIMEZONE:Europe/Rome
BEGIN:VEVENT
SUMMARY:Algorithms of Oppression: How Search Engines Reinforce Racism\, di
  Safiya Umoja Noble
DTSTART;TZID=Europe/Rome;VALUE=DATE-TIME:20210304T170000
DTEND;TZID=Europe/Rome;VALUE=DATE-TIME:20210304T183000
DTSTAMP;VALUE=DATE-TIME:20260419T202115Z
UID:4a65c2c3269245ecb6f833455bafde66@dsps.unibo.it
CREATED;VALUE=DATE-TIME:20210222T155228Z
DESCRIPTION:Ciclo di seminari "Dell’utilità e il danno dell’algoritmo
  per la vita: ovvero dell’artificialità intelligente e del potere"
LAST-MODIFIED;VALUE=DATE-TIME:20210222T155343Z
URL:https://dsps.unibo.it/it/eventi/algorithms-of-oppression-how-search-en
 gines-reinforce-racism-di-safiya-umoja-noble
END:VEVENT
BEGIN:VTIMEZONE
TZID:Europe/Rome
X-LIC-LOCATION:Europe/Rome
BEGIN:STANDARD
DTSTART;VALUE=DATE-TIME:20201025T020000
TZNAME:CET
TZOFFSETFROM:+0200
TZOFFSETTO:+0100
END:STANDARD
END:VTIMEZONE
END:VCALENDAR
