BEGIN:VCALENDAR
VERSION:2.0
PRODID:-//Plone.org//NONSGML plone.app.event//EN
X-WR-TIMEZONE:Europe/Rome
BEGIN:VEVENT
SUMMARY:Afghanistan under the Taliban
DTSTART;TZID=Europe/Rome;VALUE=DATE-TIME:20241129T103000
DTEND;TZID=Europe/Rome;VALUE=DATE-TIME:20241130T150000
DTSTAMP;VALUE=DATE-TIME:20260420T143151Z
UID:199baaf472054658807b4f977267a733@dsps.unibo.it
CREATED;VALUE=DATE-TIME:20241111T123758Z
DESCRIPTION:The new Geography and Geopolitics of the Region and Beyond
LAST-MODIFIED;VALUE=DATE-TIME:20241111T124025Z
URL:https://dsps.unibo.it/it/eventi/afghanistan-under-the-taliban
END:VEVENT
BEGIN:VTIMEZONE
TZID:Europe/Rome
X-LIC-LOCATION:Europe/Rome
BEGIN:STANDARD
DTSTART;VALUE=DATE-TIME:20241027T020000
TZNAME:CET
TZOFFSETFROM:+0200
TZOFFSETTO:+0100
END:STANDARD
END:VTIMEZONE
END:VCALENDAR
