BEGIN:VCALENDAR
VERSION:2.0
PRODID:-//Plone.org//NONSGML plone.app.event//EN
X-WR-TIMEZONE:Europe/Rome
BEGIN:VEVENT
SUMMARY:COVID-19 and the global economic outlook
DTSTART;TZID=Europe/Rome;VALUE=DATE-TIME:20210325T110000
DTEND;TZID=Europe/Rome;VALUE=DATE-TIME:20210325T130000
DTSTAMP;VALUE=DATE-TIME:20260421T155253Z
UID:3417884dcf8b44889f694e8b50d1aa69@dsps.unibo.it
CREATED;VALUE=DATE-TIME:20210325T091339Z
DESCRIPTION:Dr. Andrea Goldstein (Organizzazione per la Cooperazione e lo 
 Sviluppo economico OCSE\, Paris) - in the context of the Course Politica d
 ell’Economia Internazionale
LAST-MODIFIED;VALUE=DATE-TIME:20210325T093610Z
URL:https://dsps.unibo.it/it/eventi/25-march-11-13-covid-19-and-the-global
 -economic-outlook
END:VEVENT
BEGIN:VTIMEZONE
TZID:Europe/Rome
X-LIC-LOCATION:Europe/Rome
BEGIN:STANDARD
DTSTART;VALUE=DATE-TIME:20201025T020000
TZNAME:CET
TZOFFSETFROM:+0200
TZOFFSETTO:+0100
END:STANDARD
END:VTIMEZONE
END:VCALENDAR
