BEGIN:VCALENDAR
VERSION:2.0
PRODID:-//Plone.org//NONSGML plone.app.event//EN
X-WR-TIMEZONE:Europe/Rome
BEGIN:VEVENT
SUMMARY:22° Festa dell’Europa - Forlì
DTSTART;TZID=Europe/Rome;VALUE=DATE-TIME:20210510T100000
DTEND;TZID=Europe/Rome;VALUE=DATE-TIME:20210510T230000
DTSTAMP;VALUE=DATE-TIME:20260419T202401Z
UID:bbda6061e38c4b6d814d5a61228cda70@dsps.unibo.it
CREATED;VALUE=DATE-TIME:20210503T102403Z
LAST-MODIFIED;VALUE=DATE-TIME:20210507T090204Z
URL:https://dsps.unibo.it/it/eventi/22deg-festa-dell2019europa-forli
END:VEVENT
BEGIN:VTIMEZONE
TZID:Europe/Rome
X-LIC-LOCATION:Europe/Rome
BEGIN:DAYLIGHT
DTSTART;VALUE=DATE-TIME:20210328T030000
TZNAME:CEST
TZOFFSETFROM:+0100
TZOFFSETTO:+0200
END:DAYLIGHT
END:VTIMEZONE
END:VCALENDAR
