BEGIN:VCALENDAR
VERSION:2.0
PRODID:-//Plone.org//NONSGML plone.app.event//EN
X-WR-TIMEZONE:Europe/Rome
BEGIN:VEVENT
SUMMARY:“Ctrl+Shame\, Canc"
DTSTART;TZID=Europe/Rome;VALUE=DATE-TIME:20251204T090000
DTEND;TZID=Europe/Rome;VALUE=DATE-TIME:20251204T190000
DTSTAMP;VALUE=DATE-TIME:20260420T175907Z
UID:2a555d79051c4d97838ccde4b1de2fc6@dsps.unibo.it
CREATED;VALUE=DATE-TIME:20251105T200812Z
LAST-MODIFIED;VALUE=DATE-TIME:20251105T200814Z
URL:https://dsps.unibo.it/it/eventi/201cctrl-shame-canc
END:VEVENT
BEGIN:VTIMEZONE
TZID:Europe/Rome
X-LIC-LOCATION:Europe/Rome
BEGIN:STANDARD
DTSTART;VALUE=DATE-TIME:20251026T020000
TZNAME:CET
TZOFFSETFROM:+0200
TZOFFSETTO:+0100
END:STANDARD
END:VTIMEZONE
END:VCALENDAR
